Workbook
Name Десятки: '[1]служебный раздел'!$D$2:$D$10
Name Единицы: '[1]служебный раздел'!$B$2:$B$22
Name ЕдиницыТ: '[1]служебный раздел'!$C$2:$C$22
Name Сотни: '[1]служебный раздел'!$E$2:$E$11

Sheet Прил.2
E1: Приложение №2
A3: Обоснование начальной (максимальной) цены контракта
A4: (начальной цены единицы товара, работы, услуги, начальной суммы цен единиц товара, работы, услуги)
A5: Предмет муниципального контракта (контракта) | B5: услуга по перевозке негабаритного груза включающего доставку, погрузку и выгрузку троллейбусов
A6: Основные характеристики объекта закупки | B6: Согласно приложению (приложениям) к извещению (документации)
A7: Используемый метод определения с обоснованием | B7: метод сопоставимых рыночных цен (анализа рынка) в соответствии с ч. 2, ч. 6 ст. 22 Федерального закона от 05.04.2013 № 44-ФЗ "О контрактной системе в сфере закупок товаров, работ, услуг для обеспечения государственных и муниципальных нужд"
A8: Максимальное значение цены контракта, руб. | B8: ='Прил. 2.1'!J9 -> 74271
A9: Расчет | B9: согласно приложениям № | C9: 2.1, 2.2, 2.3 | D9: к обоснованию
A10: Дата подготовки обоснования | B10: 43889
A14: Примечание:
A15: Белые и серые ячейки - не заполняются
A16: Зеленые ячейки - ввод произвольных значений
A17: Оранжевые ячейки - выбор значений из справочника

Sheet Прил. 2.1
I1: Приложение № | J1: 2.1
I2: к обоснованию
A4: Определение начальной цены единицы товара, работы, услуги, начальной суммы цен единиц товара, работы, услуги
A5: методом сопоставимых рыночных цен (анализа рынка)
A6: N п/п | B6: Наименование товара (работы, услуги) | C6: Единица измерения | D6: Цена за единицу товара (работы, услуги) из различных источников ценовой информации, руб. | H6: Коэффициент вариации, % | I6: Средняя цена за единицу товара (работы, услуги), руб | J6: =IF(Прил.2!A3="Обоснование начальной (максимальной) цены контракта (НМЦК)","Стоимость товара (работы, услуги), руб.","Начальная цена единицы товара, работы, услуги, руб.") -> Начальная цена единицы товара, работы, услуги, руб.
D7: =IF(Прил.2.2!A4="Определение ценовой информации, полученной от поставщиков (подрядчиков, исполнителей)","запрос поставщикам (подрядчикам, исполнителям)","запрос в ЕИС") -> запрос в ЕИС | E7: =IF(D7="запрос поставщикам (подрядчикам, исполнителям)","запрос в ЕИС","запрос поставщикам (подрядчикам, исполнителям)") -> запрос поставщикам (подрядчикам, исполнителям) | F7: =IF(G7="общедоступные источники","реестр контрактов","общедоступные источники") -> реестр контрактов | G7: =IF(Прил.2.3!A4="Определение ценовой информации, полученной из общедоступных источников","общедоступные источники","реестр контрактов") -> общедоступные источники
A8: 1 | B8: 2 | C8: 3 | D8: 4 | E8: 5 | F8: 6 | G8: 7 | H8: 8 | I8: 9 | J8: 10
A9: 1 | B9: услуга по перевозке негабаритного груза включающего доставку, погрузку и выгрузку троллейбусов | C9: шт. | D9: =Прил.2.2!I11 -> 77475.56 | G9: =Прил.2.3!I9 -> 71066.67 | H9: =STDEVA(D9:G9)/I9*100 -> 6.1016676 | I9: =ROUND(AVERAGE(D9:G9),0) -> 74271 | J9: 74271
A10: 2 | B10: Товар, работа, услуга 2 | C10: шт. | D10: =Прил.2.2!I12 -> 1 | G10: =Прил.2.3!I12 -> 1 | H10: =STDEVA(D10:G10)/I10*100 -> 0 | I10: =ROUND(AVERAGE(D10:G10),2) -> 1
A11: 3 | B11: Товар, работа, услуга 3 | C11: шт. | D11: =Прил.2.2!I13 -> 1 | G11: =Прил.2.3!I15 -> 1 | H11: =STDEVA(D11:G11)/I11*100 -> 0 | I11: =ROUND(AVERAGE(D11:G11),2) -> 1
A12: 4 | B12: Товар, работа, услуга 4 | C12: шт. | D12: =Прил.2.2!I14 -> 1 | G12: =Прил.2.3!I18 -> 1 | H12: =STDEVA(D12:G12)/I12*100 -> 0 | I12: =ROUND(AVERAGE(D12:G12),2) -> 1
A13: 5 | B13: Товар, работа, услуга 4 | C13: шт. | D13: =Прил.2.2!I15 -> 1 | G13: =Прил.2.3!I21 -> 1 | H13: =STDEVA(D13:G13)/I13*100 -> 0 | I13: =ROUND(AVERAGE(D13:G13),2) -> 1
A14: 6 | B14: Товар, работа, услуга 6 | C14: шт. | D14: =Прил.2.2!I16 -> 1 | G14: =Прил.2.3!I24 -> 1 | H14: =STDEVA(D14:G14)/I14*100 -> 0 | I14: =ROUND(AVERAGE(D14:G14),2) -> 1
A15: 7 | B15: Товар, работа, услуга 7 | C15: шт. | D15: =Прил.2.2!I17 -> 1 | G15: =Прил.2.3!I27 -> 1 | H15: =STDEVA(D15:G15)/I15*100 -> 0 | I15: =ROUND(AVERAGE(D15:G15),2) -> 1
A16: 8 | B16: Товар, работа, услуга 8 | C16: шт. | D16: =Прил.2.2!I18 -> 1 | G16: =Прил.2.3!I30 -> 1 | H16: =STDEVA(D16:G16)/I16*100 -> 0 | I16: =ROUND(AVERAGE(D16:G16),2) -> 1
A17: 9 | B17: Товар, работа, услуга 9 | C17: шт. | D17: =Прил.2.2!I19 -> 1 | G17: =Прил.2.3!I33 -> 1 | H17: =STDEVA(D17:G17)/I17*100 -> 0 | I17: =ROUND(AVERAGE(D17:G17),2) -> 1
A18: 10 | B18: Товар, работа, услуга 10 | C18: шт. | D18: =Прил.2.2!I20 -> 1 | G18: =Прил.2.3!I36 -> 1 | H18: =STDEVA(D18:G18)/I18*100 -> 0 | I18: =ROUND(AVERAGE(D18:G18),2) -> 1
A19: 11 | B19: Товар, работа, услуга 11 | C19: шт. | D19: =Прил.2.2!I21 -> 1 | G19: =Прил.2.3!I39 -> 1 | H19: =STDEVA(D19:G19)/I19*100 -> 0 | I19: =ROUND(AVERAGE(D19:G19),2) -> 1
A20: 12 | B20: Товар, работа, услуга 12 | C20: шт. | D20: =Прил.2.2!I22 -> 1 | G20: =Прил.2.3!I42 -> 1 | H20: =STDEVA(D20:G20)/I20*100 -> 0 | I20: =ROUND(AVERAGE(D20:G20),2) -> 1
A21: 13 | B21: Товар, работа, услуга 13 | C21: шт. | D21: =Прил.2.2!I23 -> 1 | G21: =Прил.2.3!I45 -> 1 | H21: =STDEVA(D21:G21)/I21*100 -> 0 | I21: =ROUND(AVERAGE(D21:G21),2) -> 1
A22: 14 | B22: Товар, работа, услуга 14 | C22: шт. | D22: =Прил.2.2!I24 -> 1 | G22: =Прил.2.3!I48 -> 1 | H22: =STDEVA(D22:G22)/I22*100 -> 0 | I22: =ROUND(AVERAGE(D22:G22),2) -> 1
A23: 15 | B23: Товар, работа, услуга 15 | C23: шт. | D23: =Прил.2.2!I25 -> 1 | G23: =Прил.2.3!I51 -> 1 | H23: =STDEVA(D23:G23)/I23*100 -> 0 | I23: =ROUND(AVERAGE(D23:G23),2) -> 1
A24: 16 | B24: Товар, работа, услуга 16 | C24: шт. | D24: =Прил.2.2!I26 -> 1 | G24: =Прил.2.3!I54 -> 1 | H24: =STDEVA(D24:G24)/I24*100 -> 0 | I24: =ROUND(AVERAGE(D24:G24),2) -> 1
A25: 17 | B25: Товар, работа, услуга 17 | C25: шт. | D25: =Прил.2.2!I27 -> 1 | G25: =Прил.2.3!I57 -> 1 | H25: =STDEVA(D25:G25)/I25*100 -> 0 | I25: =ROUND(AVERAGE(D25:G25),2) -> 1
A26: 18 | B26: Товар, работа, услуга 18 | C26: шт. | D26: =Прил.2.2!I28 -> 1 | G26: =Прил.2.3!I60 -> 1 | H26: =STDEVA(D26:G26)/I26*100 -> 0 | I26: =ROUND(AVERAGE(D26:G26),2) -> 1
A27: 19 | B27: Товар, работа, услуга 19 | C27: шт. | D27: =Прил.2.2!I29 -> 1 | G27: =Прил.2.3!I63 -> 1 | H27: =STDEVA(D27:G27)/I27*100 -> 0 | I27: =ROUND(AVERAGE(D27:G27),2) -> 1
A28: 20 | B28: Товар, работа, услуга 20 | C28: шт. | D28: =Прил.2.2!I30 -> 1 | G28: =Прил.2.3!I66 -> 1 | H28: =STDEVA(D28:G28)/I28*100 -> 0 | I28: =ROUND(AVERAGE(D28:G28),2) -> 1
A29: 21 | B29: Товар, работа, услуга 21 | C29: шт. | D29: =Прил.2.2!I31 -> 1 | G29: =Прил.2.3!I69 -> 1 | H29: =STDEVA(D29:G29)/I29*100 -> 0 | I29: =ROUND(AVERAGE(D29:G29),2) -> 1
H30: =IF(Прил.2!A3="Обоснование начальной (максимальной) цены контракта (НМЦК)","ИТОГО:","Начальная сумма цен единиц товара, работы, услуги, руб.") -> Начальная сумма цен единиц товара, работы, услуги, руб. | J30: =SUM(J9:J29) -> 74271

Sheet Прил.2.2
G1: Приложение № | I1: 2.2
H2: к обоснованию
A4: Определение ценовой информации, полученной от поставщиков (подрядчиков, исполнителей)
A6: № п/п | B6: Информация от поставщиков (подрядчиков, исполнителей) о предлагаемых идентичных (однородных) товарах (работах, услугах) | H6: Коэффициент вариации, % | I6: Средняя цена за единицу товара (работы, услуги), руб.
B7: №1 | D7: №2 | F7: №3
B8: вх. от 27.01.2020 № 3 | D8: вх. от 28.01.2020 № 2 | F8: вх. от 28.01.2020 № 3
B9: наименование товара (работы, услуги) | C9: цена за единицу, руб. | D9: наименование товара (работы, услуги) | E9: цена за единицу, руб. | F9: наименование товара (работы, услуги) | G9: цена за единицу, руб.
A10: 1 | B10: 2 | C10: 3 | D10: 4 | E10: 5 | F10: 6 | G10: 7 | H10: 8 | I10: 9
A11: 1 | B11: ='Прил. 2.1'!B9 -> услуга по перевозке негабаритного груза включающего доставку, погрузку и выгрузку троллейбусов | C11: =1275000/15 -> 85000 | D11: =B11 -> услуга по перевозке негабаритного груза включающего доставку, погрузку и выгрузку троллейбусов | E11: =1135000/15 -> 75666.667 | F11: =B11 -> услуга по перевозке негабаритного груза включающего доставку, погрузку и выгрузку троллейбусов | G11: =1076400/15 -> 71760 | H11: =STDEVA(C11,E11,G11)/I11*100 -> 8.7806107 | I11: =ROUND(AVERAGE(C11,E11,G11),2) -> 77475.56
A12: 2 | B12: ='Прил. 2.1'!B10 -> Товар, работа, услуга 2 | C12: 1 | D12: =B12 -> Товар, работа, услуга 2 | E12: 1 | F12: =B12 -> Товар, работа, услуга 2 | G12: 1 | H12: =STDEVA(C12,E12,G12)/I12*100 -> 0 | I12: =ROUND(AVERAGE(C12,E12,G12),2) -> 1
A13: 3 | B13: ='Прил. 2.1'!B11 -> Товар, работа, услуга 3 | C13: 1 | D13: =B13 -> Товар, работа, услуга 3 | E13: 1 | F13: =B13 -> Товар, работа, услуга 3 | G13: 1 | H13: =STDEVA(C13,E13,G13)/I13*100 -> 0 | I13: =ROUND(AVERAGE(C13,E13,G13),2) -> 1
A14: 4 | B14: ='Прил. 2.1'!B12 -> Товар, работа, услуга 4 | C14: 1 | D14: =B14 -> Товар, работа, услуга 4 | E14: 1 | F14: =B14 -> Товар, работа, услуга 4 | G14: 1 | H14: =STDEVA(C14,E14,G14)/I14*100 -> 0 | I14: =ROUND(AVERAGE(C14,E14,G14),2) -> 1
A15: 5 | B15: ='Прил. 2.1'!B13 -> Товар, работа, услуга 4 | C15: 1 | D15: =B15 -> Товар, работа, услуга 4 | E15: 1 | F15: =B15 -> Товар, работа, услуга 4 | G15: 1 | H15: =STDEVA(C15,E15,G15)/I15*100 -> 0 | I15: =ROUND(AVERAGE(C15,E15,G15),2) -> 1
A16: 6 | B16: ='Прил. 2.1'!B14 -> Товар, работа, услуга 6 | C16: 1 | D16: =B16 -> Товар, работа, услуга 6 | E16: 1 | F16: =B16 -> Товар, работа, услуга 6 | G16: 1 | H16: =STDEVA(C16,E16,G16)/I16*100 -> 0 | I16: =ROUND(AVERAGE(C16,E16,G16),2) -> 1
A17: 7 | B17: ='Прил. 2.1'!B15 -> Товар, работа, услуга 7 | C17: 1 | D17: =B17 -> Товар, работа, услуга 7 | E17: 1 | F17: =B17 -> Товар, работа, услуга 7 | G17: 1 | H17: =STDEVA(C17,E17,G17)/I17*100 -> 0 | I17: =ROUND(AVERAGE(C17,E17,G17),2) -> 1
A18: 8 | B18: ='Прил. 2.1'!B16 -> Товар, работа, услуга 8 | C18: 1 | D18: =B18 -> Товар, работа, услуга 8 | E18: 1 | F18: =B18 -> Товар, работа, услуга 8 | G18: 1 | H18: =STDEVA(C18,E18,G18)/I18*100 -> 0 | I18: =ROUND(AVERAGE(C18,E18,G18),2) -> 1
A19: 9 | B19: ='Прил. 2.1'!B17 -> Товар, работа, услуга 9 | C19: 1 | D19: =B19 -> Товар, работа, услуга 9 | E19: 1 | F19: =B19 -> Товар, работа, услуга 9 | G19: 1 | H19: =STDEVA(C19,E19,G19)/I19*100 -> 0 | I19: =ROUND(AVERAGE(C19,E19,G19),2) -> 1
A20: 10 | B20: ='Прил. 2.1'!B18 -> Товар, работа, услуга 10 | C20: 1 | D20: =B20 -> Товар, работа, услуга 10 | E20: 1 | F20: =B20 -> Товар, работа, услуга 10 | G20: 1 | H20: =STDEVA(C20,E20,G20)/I20*100 -> 0 | I20: =ROUND(AVERAGE(C20,E20,G20),2) -> 1
A21: 11 | B21: ='Прил. 2.1'!B19 -> Товар, работа, услуга 11 | C21: 1 | D21: =B21 -> Товар, работа, услуга 11 | E21: 1 | F21: =B21 -> Товар, работа, услуга 11 | G21: 1 | H21: =STDEVA(C21,E21,G21)/I21*100 -> 0 | I21: =ROUND(AVERAGE(C21,E21,G21),2) -> 1
A22: 12 | B22: ='Прил. 2.1'!B20 -> Товар, работа, услуга 12 | C22: 1 | D22: =B22 -> Товар, работа, услуга 12 | E22: 1 | F22: =B22 -> Товар, работа, услуга 12 | G22: 1 | H22: =STDEVA(C22,E22,G22)/I22*100 -> 0 | I22: =ROUND(AVERAGE(C22,E22,G22),2) -> 1
A23: 13 | B23: ='Прил. 2.1'!B21 -> Товар, работа, услуга 13 | C23: 1 | D23: =B23 -> Товар, работа, услуга 13 | E23: 1 | F23: =B23 -> Товар, работа, услуга 13 | G23: 1 | H23: =STDEVA(C23,E23,G23)/I23*100 -> 0 | I23: =ROUND(AVERAGE(C23,E23,G23),2) -> 1
... A31: 21 | B31: ='Прил. 2.1'!B29 -> Товар, работа, услуга 21 | C31: 1 | D31: =B31 -> Товар, работа, услуга 21 | E31: 1 | F31: =B31 -> Товар, работа, услуга 21 | G31: 1 | H31: =STDEVA(C31,E31,G31)/I31*100 -> 0 | I31: =ROUND(AVERAGE(C31,E31,G31),2) -> 1

Sheet Прил.2.3
H1: Приложение № | J1: 2.3
I2: к обоснованию
A4: Определение ценовой информации, полученной из общедоступных источников
A6: № п/п | B6: =IF(A4="Определение ценовой информации, полученной из общедоступных источников","Сведения (информация) об идентичных (однородных) товарах (работах, услугах), полученные из общедоступных источников информации","Сведения (информация) об идентичных (однородных) товарах (работах, услугах), полученные из ЕИС") -> Сведения (информация) об идентичных (однородных) товарах (работах, услугах), полученные из общедоступных источников информации | E6: Применение поправочных коэффициентов (индексов) | H6: Цена за единицу товара (работы, услуги) с учетом применения коэффициента (индекса), руб. | I6: Средняя цена за единицу товара (работы, услуги), руб. | J6: Коэффициент вариации, %
B7: наименование товара (работы, услуги) | C7: =IF(A4="Определение ценовой информации, полученной из общедоступных источников","наименование общедоступного источника информации","реестровый номер контракта в ЕИС") -> наименование общедоступного источника информации | D7: цена за единицу товара (работы, услуги), руб. | E7: условие закупки, которое определяет применение коэффициента (индекса) | F7: значение коэффициента (индекса) | G7: обоснование применения коэффициента (индекса)
A8: 1 | B8: 2 | C8: 3 | D8: 4 | E8: 5 | F8: 6 | G8: 7 | H8: 8 | I8: 9 | J8: 10
A9: 1 | B9: ='Прил. 2.1'!B9 -> услуга по перевозке негабаритного груза включающего доставку, погрузку и выгрузку троллейбусов | C9: https://voronezh.spectehinfo.ru/arenda/traly | D9: =80*1040 -> 83200 | E9: расстояние рейса | F9: 1040 | G9: https://yandex.ru/maps/?clid=2278638&ll=40.065392%2C53.695869&mode=routes&rtext=51.655981%2C39.159549~55.676641%2C37.636105&rtn=1&rtt=auto&ruri=ymapsbm1%3A%2F%2Fgeo%3Fll%3D39.160%252C51.656%26spn%3D0.001%252C0.001%26text%3D%25D0%25A0%25D0%25BE%25D1%2581%25D1%2581%25D0%25B8%25D1%258F%252C%2520%25D0%2592%25D0%25BE%25D1%2580%25D0%25BE%25D0%25BD%25D0%25B5%25D0%25B6%252C%2520%25D1%2583%25D0%25BB%25D0%25B8%25D1%2586%25D0%25B0%2520%25D0%259A%25D0%25BE%25D1%2581%25D0%25BC%25D0%25BE%25D0%25BD%25D0%25B0%25D0%25B2%25D1%2582%25D0%25BE%25D0%25B2%252C%252027~ymapsbm1%3A%2F%2Fgeo%3Fll%3D37.636%252C55.677%26spn%3D0.001%252C0.001%26text%3D%25D0%25A0%25D0%25BE%25D1%2581%25D1%2581%25D0%25B8%25D1%258F%252C%2520%25D0%259C%25D0%25BE%25D1%2581%25D0%25BA%25D0%25B2%25D0%25B0%252C%2520%25D0%259D%25D0%25B0%25D0%25B3%25D0%25B0%25D1%2582%25D0%25B8%25D0%25BD%25D1%2581%25D0%25BA%25D0%25B0%25D1%258F%2520%25D1%2583%25D0%25BB%25D0%25B8%25D1%2586%25D0%25B0%252C%252012%25D0%2590&z=6.85 | H9: =D9 -> 83200 | I9: =ROUND(AVERAGE(H9:H11),2) -> 71066.67 | J9: =STDEVA(H9:H11)/I9*100 -> 15.231702
C10: https://www.mosbigauto.ru/ceny/ | D10: =65*1040 -> 67600 | E10: расстояние рейса | F10: 1040 | G10: https://yandex.ru/maps/?clid=2278638&ll=40.065392%2C53.695869&mode=routes&rtext=51.655981%2C39.159549~55.676641%2C37.636105&rtn=1&rtt=auto&ruri=ymapsbm1%3A%2F%2Fgeo%3Fll%3D39.160%252C51.656%26spn%3D0.001%252C0.001%26text%3D%25D0%25A0%25D0%25BE%25D1%2581%25D1%2581%25D0%25B8%25D1%258F%252C%2520%25D0%2592%25D0%25BE%25D1%2580%25D0%25BE%25D0%25BD%25D0%25B5%25D0%25B6%252C%2520%25D1%2583%25D0%25BB%25D0%25B8%25D1%2586%25D0%25B0%2520%25D0%259A%25D0%25BE%25D1%2581%25D0%25BC%25D0%25BE%25D0%25BD%25D0%25B0%25D0%25B2%25D1%2582%25D0%25BE%25D0%25B2%252C%252027~ymapsbm1%3A%2F%2Fgeo%3Fll%3D37.636%252C55.677%26spn%3D0.001%252C0.001%26text%3D%25D0%25A0%25D0%25BE%25D1%2581%25D1%2581%25D0%25B8%25D1%258F%252C%2520%25D0%259C%25D0%25BE%25D1%2581%25D0%25BA%25D0%25B2%25D0%25B0%252C%2520%25D0%259D%25D0%25B0%25D0%25B3%25D0%25B0%25D1%2582%25D0%25B8%25D0%25BD%25D1%2581%25D0%25BA%25D0%25B0%25D1%258F%2520%25D1%2583%25D0%25BB%25D0%25B8%25D1%2586%25D0%25B0%252C%252012%25D0%2590&z=6.85 | H10: =D10 -> 67600
C11: http://sk-spectehnika.ru/tral-40-tonn.html | D11: =60*1040 -> 62400 | E11: расстояние рейса | F11: 1040 | G11: https://yandex.ru/maps/?clid=2278638&ll=40.065392%2C53.695869&mode=routes&rtext=51.655981%2C39.159549~55.676641%2C37.636105&rtn=1&rtt=auto&ruri=ymapsbm1%3A%2F%2Fgeo%3Fll%3D39.160%252C51.656%26spn%3D0.001%252C0.001%26text%3D%25D0%25A0%25D0%25BE%25D1%2581%25D1%2581%25D0%25B8%25D1%258F%252C%2520%25D0%2592%25D0%25BE%25D1%2580%25D0%25BE%25D0%25BD%25D0%25B5%25D0%25B6%252C%2520%25D1%2583%25D0%25BB%25D0%25B8%25D1%2586%25D0%25B0%2520%25D0%259A%25D0%25BE%25D1%2581%25D0%25BC%25D0%25BE%25D0%25BD%25D0%25B0%25D0%25B2%25D1%2582%25D0%25BE%25D0%25B2%252C%252027~ymapsbm1%3A%2F%2Fgeo%3Fll%3D37.636%252C55.677%26spn%3D0.001%252C0.001%26text%3D%25D0%25A0%25D0%25BE%25D1%2581%25D1%2581%25D0%25B8%25D1%258F%252C%2520%25D0%259C%25D0%25BE%25D1%2581%25D0%25BA%25D0%25B2%25D0%25B0%252C%2520%25D0%259D%25D0%25B0%25D0%25B3%25D0%25B0%25D1%2582%25D0%25B8%25D0%25BD%25D1%2581%25D0%25BA%25D0%25B0%25D1%258F%2520%25D1%2583%25D0%25BB%25D0%25B8%25D1%2586%25D0%25B0%252C%252012%25D0%2590&z=6.85 | H11: =D11 -> 62400
A12: 2 | B12: ='Прил. 2.1'!B10 -> Товар, работа, услуга 2 | D12: 1 | H12: =D12 -> 1 | I12: =ROUND(AVERAGE(H12:H14),2) -> 1 | J12: =STDEVA(H12:H14)/I12*100 -> 0
D13: 1 | H13: =D13 -> 1
D14: 1 | H14: =D14 -> 1
A15: 3 | B15: ='Прил. 2.1'!B11 -> Товар, работа, услуга 3 | D15: 1 | H15: =D15 -> 1 | I15: =ROUND(AVERAGE(H15:H17),2) -> 1 | J15: =STDEVA(H15:H17)/I15*100 -> 0
D16: 1 | H16: =D16 -> 1
D17: 1 | H17: =D17 -> 1
A18: 4 | B18: ='Прил. 2.1'!B12 -> Товар, работа, услуга 4 | D18: 1 | H18: =D18 -> 1 | I18: =ROUND(AVERAGE(H18:H20),2) -> 1 | J18: =STDEVA(H18:H20)/I18*100 -> 0
D19: 1 | H19: =D19 -> 1
D20: 1 | H20: =D20 -> 1
A21: 5 | B21: ='Прил. 2.1'!B13 -> Товар, работа, услуга 4 | D21: 1 | H21: =D21 -> 1 | I21: =ROUND(AVERAGE(H21:H23),2) -> 1 | J21: =STDEVA(H21:H23)/I21*100 -> 0
D22: 1 | H22: =D22 -> 1
D23: 1 | H23: =D23 -> 1
A24: 6 | B24: ='Прил. 2.1'!B14 -> Товар, работа, услуга 6 | D24: 1 | H24: =D24 -> 1 | I24: =ROUND(AVERAGE(H24:H26),2) -> 1 | J24: =STDEVA(H24:H26)/I24*100 -> 0
D25: 1 | H25: =D25 -> 1
D26: 1 | H26: =D26 -> 1
A27: 7 | B27: ='Прил. 2.1'!B15 -> Товар, работа, услуга 7 | D27: 1 | H27: =D27 -> 1 | I27: =ROUND(AVERAGE(H27:H29),2) -> 1 | J27: =STDEVA(H27:H29)/I27*100 -> 0
D28: 1 | H28: =D28 -> 1
D29: 1 | H29: =D29 -> 1
A30: 8 | B30: ='Прил. 2.1'!B16 -> Товар, работа, услуга 8 | D30: 1 | H30: =D30 -> 1 | I30: =ROUND(AVERAGE(H30:H32),2) -> 1 | J30: =STDEVA(H30:H32)/I30*100 -> 0
D31: 1 | H31: =D31 -> 1
D32: 1 | H32: =D32 -> 1
A33: 9 | B33: ='Прил. 2.1'!B17 -> Товар, работа, услуга 9 | D33: 1 | H33: =D33 -> 1 | I33: =ROUND(AVERAGE(H33:H35),2) -> 1 | J33: =STDEVA(H33:H35)/I33*100 -> 0
D34: 1 | H34: =D34 -> 1
D35: 1 | H35: =D35 -> 1
A36: 10 | B36: ='Прил. 2.1'!B18 -> Товар, работа, услуга 10 | D36: 1 | H36: =D36 -> 1 | I36: =ROUND(AVERAGE(H36:H38),2) -> 1 | J36: =STDEVA(H36:H38)/I36*100 -> 0
D37: 1 | H37: =D37 -> 1
D38: 1 | H38: =D38 -> 1
A39: 11 | B39: ='Прил. 2.1'!B19 -> Товар, работа, услуга 11 | D39: 1 | H39: =D39 -> 1 | I39: =ROUND(AVERAGE(H39:H41),2) -> 1 | J39: =STDEVA(H39:H41)/I39*100 -> 0
D40: 1 | H40: =D40 -> 1
D41: 1 | H41: =D41 -> 1
A42: 12 | B42: ='Прил. 2.1'!B20 -> Товар, работа, услуга 12 | D42: 1 | H42: =D42 -> 1 | I42: =ROUND(AVERAGE(H42:H44),2) -> 1 | J42: =STDEVA(H42:H44)/I42*100 -> 0
D43: 1 | H43: =D43 -> 1
D44: 1 | H44: =D44 -> 1
A45: 13 | B45: ='Прил. 2.1'!B21 -> Товар, работа, услуга 13 | D45: 1 | H45: =D45 -> 1 | I45: =ROUND(AVERAGE(H45:H47),2) -> 1 | J45: =STDEVA(H45:H47)/I45*100 -> 0
D46: 1 | H46: =D46 -> 1
D47: 1 | H47: =D47 -> 1
A48: 14 | B48: ='Прил. 2.1'!B22 -> Товар, работа, услуга 14 | D48: 1 | H48: =D48 -> 1 | I48: =ROUND(AVERAGE(H48:H50),2) -> 1 | J48: =STDEVA(H48:H50)/I48*100 -> 0
D49: 1 | H49: =D49 -> 1
D50: 1 | H50: =D50 -> 1
A51: 15 | B51: ='Прил. 2.1'!B23 -> Товар, работа, услуга 15 | D51: 1 | H51: =D51 -> 1 | I51: =ROUND(AVERAGE(H51:H53),2) -> 1 | J51: =STDEVA(H51:H53)/I51*100 -> 0
D52: 1 | H52: =D52 -> 1
D53: 1 | H53: =D53 -> 1
A54: 16 | B54: ='Прил. 2.1'!B24 -> Товар, работа, услуга 16 | D54: 1 | H54: =D54 -> 1 | I54: =ROUND(AVERAGE(H54:H56),2) -> 1 | J54: =STDEVA(H54:H56)/I54*100 -> 0
D55: 1 | H55: =D55 -> 1
D56: 1 | H56: =D56 -> 1
A57: 17 | B57: ='Прил. 2.1'!B25 -> Товар, работа, услуга 17 | D57: 1 | H57: =D57 -> 1 | I57: =ROUND(AVERAGE(H57:H59),2) -> 1 | J57: =STDEVA(H57:H59)/I57*100 -> 0
D58: 1 | H58: =D58 -> 1
D59: 1 | H59: =D59 -> 1
A60: 18 | B60: ='Прил. 2.1'!B26 -> Товар, работа, услуга 18 | D60: 1 | H60: =D60 -> 1 | I60: =ROUND(AVERAGE(H60:H62),2) -> 1 | J60: =STDEVA(H60:H62)/I60*100 -> 0
D61: 1 | H61: =D61 -> 1
D62: 1 | H62: =D62 -> 1
A63: 19 | B63: ='Прил. 2.1'!B27 -> Товар, работа, услуга 19 | D63: 1 | H63: =D63 -> 1 | I63: =ROUND(AVERAGE(H63:H65),2) -> 1 | J63: =STDEVA(H63:H65)/I63*100 -> 0
D64: 1 | H64: =D64 -> 1
D65: 1 | H65: =D65 -> 1
A66: 20 | B66: ='Прил. 2.1'!B28 -> Товар, работа, услуга 20 | D66: 1 | H66: =D66 -> 1 | I66: =ROUND(AVERAGE(H66:H68),2) -> 1 | J66: =STDEVA(H66:H68)/I66*100 -> 0
D67: 1 | H67: =D67 -> 1
D68: 1 | H68: =D68 -> 1
A69: 21 | B69: ='Прил. 2.1'!B29 -> Товар, работа, услуга 21 | D69: 1 | H69: =D69 -> 1 | I69: =ROUND(AVERAGE(H69:H71),2) -> 1 | J69: =STDEVA(H69:H71)/I69*100 -> 0
D70: 1 | H70: =D70 -> 1
D71: 1 | H71: =D71 -> 1
A73: https://yandex.ru/maps/?clid=2278638&ll=40.065392%2C53.695869&mode=routes&rtext=51.655981%2C39.159549~55.676641%2C37.636105&rtn=1&rtt=auto&ruri=ymapsbm1%3A%2F%2Fgeo%3Fll%3D39.160%252C51.656%26spn%3D0.001%252C0.001%26text%3D%25D0%25A0%25D0%25BE%25D1%2581%25D1%2581%25D0%25B8%25D1%258F%252C%2520%25D0%2592%25D0%25BE%25D1%2580%25D0%25BE%25D0%25BD%25D0%25B5%25D0%25B6%252C%2520%25D1%2583%25D0%25BB%25D0%25B8%25D1%2586%25D0%25B0%2520%25D0%259A%25D0%25BE%25D1%2581%25D0%25BC%25D0%25BE%25D0%25BD%25D0%25B0%25D0%25B2%25D1%2582%25D0%25BE%25D0%25B2%252C%252027~ymapsbm1%3A%2F%2Fgeo%3Fll%3D37.636%252C55.677%26spn%3D0.001%252C0.001%26text%3D%25D0%25A0%25D0%25BE%25D1%2581%25D1%2581%25D0%25B8%25D1%258F%252C%2520%25D0%259C%25D0%25BE%25D1%2581%25D0%25BA%25D0%25B2%25D0%25B0%252C%2520%25D0%259D%25D0%25B0%25D0%25B3%25D0%25B0%25D1%2582%25D0%25B8%25D0%25BD%25D1%2581%25D0%25BA%25D0%25B0%25D1%258F%2520%25D1%2583%25D0%25BB%25D0%25B8%25D1%2586%25D0%25B0%252C%252012%25D0%2590&z=6.85

Sheet ИД
A1: Определение ценовой информации, полученной от поставщиков (подрядчиков, исполнителей)
A2: Определение ценовой информации, полученной на основании запроса в ЕИС
A4: Определение ценовой информации, полученной из общедоступных источников
A5: Определение ценовой информации, полученной из реестра контрактов, опубликованных в ЕИС
