Workbook
Name Десятки: '[1]служебный раздел'!$D$2:$D$10
Name Единицы: '[1]служебный раздел'!$B$2:$B$22
Name ЕдиницыТ: '[1]служебный раздел'!$C$2:$C$22
Name Сотни: '[1]служебный раздел'!$E$2:$E$11

Sheet Обоснование НМЦК
A3: ОБОСНОВАНИЕ
A4: начальной (максимальной) цены контракта (НМЦК)
A5: Предмет муниципального контракта (контракта) | B5: Поставка кроватей детских одноярусных
A6: Основные характеристики объекта закупки | B6: В соответствии с извещением об осуществлении закупки
A7: Используемый метод определения НМЦК с обоснованием | B7: метод сопоставимых рыночных цен (анализа рынка) в соответствии с ч. 2, ч. 6 ст. 22 Федерального закона от 05.04.2013 № 44-ФЗ "О контрактной системе в сфере закупок товаров, работ, услуг для обеспечения государственных и муниципальных нужд"
A8: НМЦК, руб. | B8: ='Прил. 1'!K17 -> 83950
A9: =IF(A4="начальной (максимальной) цены контракта (НМЦК)","Расчет НМЦК","Расчет НЦЕ, НСЦЕ") -> Расчет НМЦК | B9: согласно приложениям № | C9: 1, 2, 3 | D9: =IF(A4="начальной (максимальной) цены контракта (НМЦК)","к обоснованию НМЦК","к обоснованию НЦЕ, НСЦЕ") -> к обоснованию НМЦК
A10: Дата подготовки обоснования НМЦК | B10: 46176

Sheet Прил. 1
J1: Приложение № | K1: 1
J2: к обоснованию НМЦК
A4: =IF('Обоснование НМЦК'!A4="начальной (максимальной) цены контракта (НМЦК)","Определение начальной (максимальной) цены контракта методом сопоставимых рыночных цен (анализа рынка)","Определение начальной цены единицы (начальной суммы цен единиц) товара (работы, услуги) методом сопоставимых рыночных цен (анализа рынка)") -> Определение начальной (максимальной) цены контракта методом сопоставимых рыночных цен (анализа рынка)
A6: N п/п | B6: Наименование товара (работы, услуги) | C6: Единица измерения | D6: =IF('Обоснование НМЦК'!A4="начальной (максимальной) цены контракта (НМЦК)","Количество (объем) товара (работы, услуги)","Количество (объем) товара (работы, услуги) невозможно определить") -> Количество (объем) товара (работы, услуги) | E6: Цена за единицу товара (работы, услуги) из различных источников ценовой информации, руб. | I6: Коэффициент вариации, % | J6: Средняя цена за единицу товара (работы, услуги), руб | K6: Стоимость товара (работы, услуги), руб.
E7: =IF('Прил. 2'!A4="Определение ценовой информации, полученной от поставщиков (подрядчиков, исполнителей)","запрос поставщикам (подрядчикам, исполнителям)","запрос в ЕИС") -> запрос поставщикам (подрядчикам, исполнителям) | F7: =IF(E7="запрос поставщикам (подрядчикам, исполнителям)","запрос в ЕИС","запрос поставщикам (подрядчикам, исполнителям)") -> запрос в ЕИС | G7: =IF(H7="общедоступные источники","реестр контрактов","общедоступные источники") -> реестр контрактов | H7: =IF('Прил. 3'!A4="Определение ценовой информации, полученной из общедоступных источников","общедоступные источники","реестр контрактов") -> общедоступные источники
A8: 1 | B8: 2 | C8: 3 | D8: 4 | E8: 5 | F8: 6 | G8: 7 | H8: 8 | I8: 9 | J8: 10 | K8: 11
A9: 1 | B9: Кровать детская одноярусная | C9: шт. | D9: 23 | E9: ='Прил. 2'!I11 -> 3650 | H9: 0 | I9: 4.35 | J9: =E9 -> 3650 | K9: =J9*D9 -> 83950
A10: 2
A11: 3
A12: 4
I17: Итого, руб. | K17: =SUM(K9:K11) -> 83950

Sheet Прил. 2
G1: Приложение № | I1: 2
H2: к обоснованию НМЦК
A4: Определение ценовой информации, полученной от поставщиков (подрядчиков, исполнителей)
A6: № п/п | B6: Информация от поставщиков (подрядчиков, исполнителей) о предлагаемых идентичных (однородных) товарах (работах, услугах) | H6: Коэффициент вариации, % | I6: Средняя цена за единицу товара (работы, услуги), руб.
B7: № 1 | D7: № 2 | F7: № 3
B8: вх. № 42-КУ от 03.06.2026 | D8: вх. № 43-КУ от 03.06.2026 | F8: вх. № 44-КУ от 03.06.2026
B9: наименование товара (работы, услуги) | C9: цена за единицу, руб. | D9: наименование товара (работы, услуги) | E9: цена за единицу, руб. | F9: наименование товара (работы, услуги) | G9: цена за единицу, руб.
A10: 1 | B10: 2 | C10: 3 | D10: 4 | E10: 5 | F10: 6 | G10: 7 | H10: 8 | I10: 9
A11: 1 | B11: Кровать детская одноярусная | C11: 4000 | D11: Кровать детская одноярусная | E11: 3300 | F11: Кровать детская одноярусная | G11: 3650 | H11: 4.35 | I11: =(G11+E11+C11)/3 -> 3650
A12: 2
A13: 3
A14: 4

Sheet Прил. 3
H1: Приложение № | J1: 3
I2: к обоснованию НМЦК
A4: Определение ценовой информации, полученной из общедоступных источников
A6: № п/п | B6: =IF(A4="Определение ценовой информации, полученной из общедоступных источников","Сведения (информация) об идентичных (однородных) товарах (работах, услугах), полученные из общедоступных источников информации","Сведения (информация) об идентичных (однородных) товарах (работах, услугах), полученные из ЕИС") -> Сведения (информация) об идентичных (однородных) товарах (работах, услугах), полученные из общедоступных источников информации | E6: Применение поправочных коэффициентов (индексов) | H6: Цена за единицу товара (работы, услуги) с учетом применения коэффициента (индекса), руб. | I6: Средняя цена за единицу товара (работы, услуги), руб. | J6: Коэффициент вариации, %
B7: наименование товара (работы, услуги) | C7: =IF(A4="Определение ценовой информации, полученной из общедоступных источников","наименование общедоступного источника информации","реестровый номер контракта в ЕИС") -> наименование общедоступного источника информации | D7: цена за единицу товара (работы, услуги), руб. | E7: условие закупки, которое определяет применение коэффициента (индекса) | F7: значение коэффициента (индекса) | G7: обоснование применения коэффициента (индекса)
A8: 1 | B8: 2 | C8: 3 | D8: 4 | E8: 5 | F8: 6 | G8: 7 | H8: 8 | I8: 9 | J8: 10
A9: 1 | H9: =D9 -> 0 | I9: =ROUND(AVERAGE(H9:H11),2) -> 0 | J9: =STDEVA(H9:H11)/I9*100 -> #DIV/0!
H10: =D10 -> 0
H11: =D11 -> 0
A12: 2 | H12: =D12 -> 0 | I12: =ROUND(AVERAGE(H12:H14),2) -> 0 | J12: =STDEVA(H12:H14)/I12*100 -> #DIV/0!
H13: =D13 -> 0
H14: =D14 -> 0
A15: 3 | H15: =D15 -> 0 | I15: =ROUND(AVERAGE(H15:H17),2) -> 0 | J15: =STDEVA(H15:H17)/I15*100 -> #DIV/0!
H16: =D16 -> 0
H17: =D17 -> 0
A18: 4 | H18: =D18 -> 0 | I18: =ROUND(AVERAGE(H18:H20),2) -> 0 | J18: =STDEVA(H18:H20)/I18*100 -> #DIV/0!
H19: =D19 -> 0
H20: =D20 -> 0
A21: 5 | H21: =D21 -> 0 | I21: =ROUND(AVERAGE(H21:H23),2) -> 0 | J21: =STDEVA(H21:H23)/I21*100 -> #DIV/0!
H22: =D22 -> 0
H23: =D23 -> 0
H24: =D24 -> 0

Sheet ИД
A1: Определение ценовой информации, полученной от поставщиков (подрядчиков, исполнителей)
A2: Определение ценовой информации, полученной на основании запроса в ЕИС
A4: Определение ценовой информации, полученной из общедоступных источников
A5: Определение ценовой информации, полученной из реестра контрактов, опубликованных в ЕИС
A7: начальной (максимальной) цены контракта (НМЦК)
A8: начальной цены единицы товара (работы, услуги), начальной суммы цен единиц товара (работы, услуги) (НЦЕ, НСЦЕ)
