Workbook
Name Десятки: '[1]служебный раздел'!$D$2:$D$10
Name Единицы: '[1]служебный раздел'!$B$2:$B$22
Name ЕдиницыТ: '[1]служебный раздел'!$C$2:$C$22
Name Сотни: '[1]служебный раздел'!$E$2:$E$11

Sheet Прил.2
E1: Приложение №2
A3: ОБОСНОВАНИЕ
A4: начальной (максимальной) цены контракта (НМЦК)
A5: Предмет муниципального контракта (контракта) | B5: Поставка канцелярских товаров для нужд учреждения
A6: Основные характеристики объекта закупки | B6: Согласно приложению (приложениям) к извещению (документации)
A7: =IF(A4="начальной (максимальной) цены контракта (НМЦК)","Используемый метод определения НМЦК с обоснованием","Используемый метод определения НЦЕ, НСЦЕ с обоснованием") -> Используемый метод определения НМЦК с обоснованием | B7: метод сопоставимых рыночных цен (анализа рынка) в соответствии с ч. 2, ч. 6 ст. 22 Федерального закона от 05.04.2013 № 44-ФЗ "О контрактной системе в сфере закупок товаров, работ, услуг для обеспечения государственных и муниципальных нужд"
A8: =IF(A4="начальной (максимальной) цены контракта (НМЦК)","НМЦК, руб.","Максимальное значение цены контракта, руб.") -> НМЦК, руб. | B8: ='Прил. 2.1'!K36 -> 20695.09
A9: =IF(A4="начальной (максимальной) цены контракта (НМЦК)","Расчет НМЦК","Расчет НЦЕ, НСЦЕ") -> Расчет НМЦК | B9: согласно приложениям № | C9: 2.1, 2.2, 2.3 | D9: =IF(A4="начальной (максимальной) цены контракта (НМЦК)","к обоснованию НМЦК","к обоснованию НЦЕ, НСЦЕ") -> к обоснованию НМЦК
A10: =IF(A4="начальной (максимальной) цены контракта (НМЦК)","Дата подготовки обоснования НМЦК","Дата подготовки обоснования НЦЕ, НСЦЕ") -> Дата подготовки обоснования НМЦК | B10: 44448

Sheet Прил. 2.1
J1: Приложение № | K1: 2.1
J2: к обоснованию НМЦК
A4: =IF(Прил.2!A4="начальной (максимальной) цены контракта (НМЦК)","Определение начальной (максимальной) цены контракта методом сопоставимых рыночных цен (анализа рынка)","Определение начальной цены единицы (начальной суммы цен единиц) товара (работы, услуги) методом сопоставимых рыночных цен (анализа рынка)") -> Определение начальной (максимальной) цены контракта методом сопоставимых рыночных цен (анализа рынка)
A6: N п/п | B6: Наименование товара (работы, услуги) | C6: Единица измерения | D6: =IF(Прил.2!A4="начальной (максимальной) цены контракта (НМЦК)","Количество (объем) товара (работы, услуги)","Количество (объем) товара (работы, услуги) невозможно определить") -> Количество (объем) товара (работы, услуги) | E6: Цена за единицу товара (работы, услуги) из различных источников ценовой информации, руб. | I6: Коэффициент вариации, % | J6: Средняя цена за единицу товара (работы, услуги), руб | K6: =IF(Прил.2!A4="начальной (максимальной) цены контракта (НМЦК)","Стоимость товара (работы, услуги), руб.","Начальная цена единицы товара (работы, услуги), руб.") -> Стоимость товара (работы, услуги), руб.
E7: =IF(Прил.2.2!A4="Определение ценовой информации, полученной от поставщиков (подрядчиков, исполнителей)","запрос поставщикам (подрядчикам, исполнителям)","запрос в ЕИС") -> запрос поставщикам (подрядчикам, исполнителям) | F7: =IF(E7="запрос поставщикам (подрядчикам, исполнителям)","запрос в ЕИС","запрос поставщикам (подрядчикам, исполнителям)") -> запрос в ЕИС | G7: =IF(H7="общедоступные источники","реестр контрактов","общедоступные источники") -> реестр контрактов | H7: =IF(Прил.2.3!A4="Определение ценовой информации, полученной из общедоступных источников","общедоступные источники","реестр контрактов") -> общедоступные источники
A8: 1 | B8: 2 | C8: 3 | D8: 4 | E8: 5 | F8: 6 | G8: 7 | H8: 8 | I8: 9 | J8: 10 | K8: 11
A9: 1 | B9: Журнал регистрации входящих документов, 48 л., картон, блок офсет, А4 (198х278 мм), STAFF | C9: шт. | D9: 2 | E9: =Прил.2.2!I11 -> 101.25 | I9: =Прил.2.2!H11 -> 6.8060133 | J9: =ROUND(AVERAGE(E9:H9),2) -> 101.25 | K9: =D9*J9 -> 202.5
A10: 2 | B10: Ручка шариковая масляная с грипом BRAUBERG "Sigma Plus", СИНЯЯ, печать, узел 0,7 мм, линия письма 0,35 мм | C10: шт. | D10: 20 | E10: =Прил.2.2!I12 -> 42.08 | I10: =Прил.2.2!H12 -> 12.457035 | J10: =ROUND(AVERAGE(E10:H10),2) -> 42.08 | K10: =D10*J10 -> 841.6
A11: 3 | B11: Папки-файлы перфорированные А4 BRAUBERG "STANDARD", КОМПЛЕКТ 100 шт., гладкие, 40 мкм | C11: шт. | D11: 20 | E11: =Прил.2.2!I13 -> 289.71 | I11: =Прил.2.2!H13 -> 12.453906 | J11: =ROUND(AVERAGE(E11:H11),2) -> 289.71 | K11: =D11*J11 -> 5794.2
A12: 4 | B12: Клейкая лента упаковочная, 48 мм х 100 м, прозрачная, толщина 45 микрон | C12: шт. | D12: 20 | E12: =Прил.2.2!I14 -> 140.58 | I12: =Прил.2.2!H14 -> 9.5757634 | J12: =ROUND(AVERAGE(E12:H12),2) -> 140.58 | K12: =D12*J12 -> 2811.6
A13: 5 | B13: Ручка гелевая с грипом BRAUBERG "Number One", ЧЕРНАЯ, узел 0,5 мм, линия письма 0,35 мм | C13: шт. | D13: 12 | E13: =Прил.2.2!I15 -> 27.99 | I13: =Прил.2.2!H15 -> 6.8082777 | J13: =ROUND(AVERAGE(E13:H13),2) -> 27.99 | K13: =D13*J13 -> 335.88
A14: 6 | B14: Скобы для степлера №10, 1000 штук, ОФИСМАГ, до 20 листов | C14: шт. | D14: 10 | E14: =Прил.2.2!I16 -> 23.53 | I14: =Прил.2.2!H16 -> 21.690336 | J14: =ROUND(AVERAGE(E14:H14),2) -> 23.53 | K14: =D14*J14 -> 235.3
A15: 7 | B15: Папка для бумаг с завязками картонная ОФИСМАГ, гарантированная плотность 220 г/м2, до 200 листов | C15: шт. | D15: 20 | E15: =Прил.2.2!I17 -> 14.5 | I15: =Прил.2.2!H17 -> 8.8921002 | J15: =ROUND(AVERAGE(E15:H15),2) -> 14.5 | K15: =D15*J15 -> 290
A16: 8 | B16: Закладки клейкие BRAUBERG НЕОНОВЫЕ бумажные, 50х14 мм, 5 цветов х 50 листов, европодвес | C16: шт. | D16: 6 | E16: =Прил.2.2!I18 -> 67.01 | I16: =Прил.2.2!H18 -> 9.5775559 | J16: =ROUND(AVERAGE(E16:H16),2) -> 67.01 | K16: =D16*J16 -> 402.06
A17: 9 | B17: Закладки клейкие BRAUBERG НЕОНОВЫЕ, пластиковые, 45х8 мм, 8 цветов х 20 листов, в пластиковой книжке | C17: шт. | D17: 3 | E17: =Прил.2.2!I19 -> 134.64 | I17: =Прил.2.2!H19 -> 6.8040585 | J17: =ROUND(AVERAGE(E17:H17),2) -> 134.64 | K17: =D17*J17 -> 403.92
A18: 10 | B18: Ножницы ОФИСМАГ "Standard" 190 мм, классической формы, черные | C18: шт. | D18: 4 | E18: =Прил.2.2!I20 -> 105.38 | I18: =Прил.2.2!H20 -> 6.8046909 | J18: =ROUND(AVERAGE(E18:H18),2) -> 105.38 | K18: =D18*J18 -> 421.52
A19: 11 | B19: Ластик ЮНЛАНДИЯ (KOH-I-NOOR EXCLUSIVE) 300/60, 31х21х8 мм, белый, 0300060052KD | C19: шт. | D19: 10 | E19: =Прил.2.2!I21 -> 9.19 | I19: =Прил.2.2!H21 -> 6.8137535 | J19: =ROUND(AVERAGE(E19:H19),2) -> 9.19 | K19: =D19*J19 -> 91.9
A20: 12 | B20: Ручка шариковая масляная автоматическая BRAUBERG "Delta", СИНЯЯ, soft-touch, 0,7 мм, линия 0,5 мм | C20: шт. | D20: 24 | E20: =Прил.2.2!I22 -> 41.01 | I20: =Прил.2.2!H22 -> 21.698015 | J20: =ROUND(AVERAGE(E20:H20),2) -> 41.01 | K20: =D20*J20 -> 984.24
... A35: 27 | B35: Карандаш чернографитный BEIFA (Бэйфа), 1 шт., "A Plus", НВ, с резинкой, корпус желтый | C35: шт. | D35: 12 | E35: =Прил.2.2!I37 -> 7.13 | I35: =Прил.2.2!H37 -> 25.432273 | J35: =ROUND(AVERAGE(E35:H35),2) -> 7.13 | K35: =D35*J35 -> 85.56
I36: =IF(Прил.2!A4="начальной (максимальной) цены контракта (НМЦК)","Итого, руб.","Начальная сумма цен единиц товара (работы, услуги), руб.") -> Итого, руб. | K36: =SUM(K9:K35) -> 20695.09

Sheet Прил.2.2
G1: Приложение № | I1: 2.2
H2: к обоснованию НМЦК
A4: Определение ценовой информации, полученной от поставщиков (подрядчиков, исполнителей)
A6: № п/п | B6: Информация от поставщиков (подрядчиков, исполнителей) о предлагаемых идентичных (однородных) товарах (работах, услугах) | H6: Коэффициент вариации, % | I6: Средняя цена за единицу товара (работы, услуги), руб.
B7: №1 | D7: №2 | F7: №3
B8: вх. от 08.09.2021 №93 | D8: вх. от 08.09.2021 №94 | F8: вх. от 08.09.2021 №95
B9: наименование товара (работы, услуги) | C9: цена за единицу, руб. | D9: наименование товара (работы, услуги) | E9: цена за единицу, руб. | F9: наименование товара (работы, услуги) | G9: цена за единицу, руб.
A10: 1 | B10: 2 | C10: 3 | D10: 4 | E10: 5 | F10: 6 | G10: 7 | H10: 8 | I10: 9
A11: 1 | B11: ='Прил. 2.1'!B9 -> Журнал регистрации входящих документов, 48 л., картон, блок офсет, А4 (198х278 мм), STAFF | C11: 103.74 | D11: =B11 -> Журнал регистрации входящих документов, 48 л., картон, блок офсет, А4 (198х278 мм), STAFF | E11: 106.55 | F11: =B11 -> Журнал регистрации входящих документов, 48 л., картон, блок офсет, А4 (198х278 мм), STAFF | G11: 93.46 | H11: =STDEVA(C11,E11,G11)/I11*100 -> 6.8060133 | I11: =ROUND(AVERAGE(C11,E11,G11),2) -> 101.25
A12: 2 | B12: ='Прил. 2.1'!B10 -> Ручка шариковая масляная с грипом BRAUBERG "Sigma Plus", СИНЯЯ, печать, узел 0,7 мм, линия письма 0,35 мм | C12: 44.489 | D12: =B12 -> Ручка шариковая масляная с грипом BRAUBERG "Sigma Plus", СИНЯЯ, печать, узел 0,7 мм, линия письма 0,35 мм | E12: 45.69 | F12: =B12 -> Ручка шариковая масляная с грипом BRAUBERG "Sigma Plus", СИНЯЯ, печать, узел 0,7 мм, линия письма 0,35 мм | G12: 36.07 | H12: =STDEVA(C12,E12,G12)/I12*100 -> 12.457035 | I12: =ROUND(AVERAGE(C12,E12,G12),2) -> 42.08
A13: 3 | B13: ='Прил. 2.1'!B11 -> Папки-файлы перфорированные А4 BRAUBERG "STANDARD", КОМПЛЕКТ 100 шт., гладкие, 40 мкм | C13: 306.26 | D13: =B13 -> Папки-файлы перфорированные А4 BRAUBERG "STANDARD", КОМПЛЕКТ 100 шт., гладкие, 40 мкм | E13: 314.54 | F13: =B13 -> Папки-файлы перфорированные А4 BRAUBERG "STANDARD", КОМПЛЕКТ 100 шт., гладкие, 40 мкм | G13: 248.32 | H13: =STDEVA(C13,E13,G13)/I13*100 -> 12.453906 | I13: =ROUND(AVERAGE(C13,E13,G13),2) -> 289.71
A14: 4 | B14: ='Прил. 2.1'!B12 -> Клейкая лента упаковочная, 48 мм х 100 м, прозрачная, толщина 45 микрон | C14: 146.287 | D14: =B14 -> Клейкая лента упаковочная, 48 мм х 100 м, прозрачная, толщина 45 микрон | E14: 150.24 | F14: =B14 -> Клейкая лента упаковочная, 48 мм х 100 м, прозрачная, толщина 45 микрон | G14: 125.2 | H14: =STDEVA(C14,E14,G14)/I14*100 -> 9.5757634 | I14: =ROUND(AVERAGE(C14,E14,G14),2) -> 140.58
A15: 5 | B15: ='Прил. 2.1'!B13 -> Ручка гелевая с грипом BRAUBERG "Number One", ЧЕРНАЯ, узел 0,5 мм, линия письма 0,35 мм | C15: 28.6825 | D15: =B15 -> Ручка гелевая с грипом BRAUBERG "Number One", ЧЕРНАЯ, узел 0,5 мм, линия письма 0,35 мм | E15: 29.46 | F15: =B15 -> Ручка гелевая с грипом BRAUBERG "Number One", ЧЕРНАЯ, узел 0,5 мм, линия письма 0,35 мм | G15: 25.84 | H15: =STDEVA(C15,E15,G15)/I15*100 -> 6.8082777 | I15: =ROUND(AVERAGE(C15,E15,G15),2) -> 27.99
A16: 6 | B16: ='Прил. 2.1'!B14 -> Скобы для степлера №10, 1000 штук, ОФИСМАГ, до 20 листов | C16: 26.118 | D16: =B16 -> Скобы для степлера №10, 1000 штук, ОФИСМАГ, до 20 листов | E16: 26.82 | F16: =B16 -> Скобы для степлера №10, 1000 штук, ОФИСМАГ, до 20 листов | G16: 17.65 | H16: =STDEVA(C16,E16,G16)/I16*100 -> 21.690336 | I16: =ROUND(AVERAGE(C16,E16,G16),2) -> 23.53
A17: 7 | B17: ='Прил. 2.1'!B15 -> Папка для бумаг с завязками картонная ОФИСМАГ, гарантированная плотность 220 г/м2, до 200 листов | C17: 15.0295 | D17: =B17 -> Папка для бумаг с завязками картонная ОФИСМАГ, гарантированная плотность 220 г/м2, до 200 листов | E17: 15.44 | F17: =B17 -> Папка для бумаг с завязками картонная ОФИСМАГ, гарантированная плотность 220 г/м2, до 200 листов | G17: 13.03 | H17: =STDEVA(C17,E17,G17)/I17*100 -> 8.8921002 | I17: =ROUND(AVERAGE(C17,E17,G17),2) -> 14.5
A18: 8 | B18: ='Прил. 2.1'!B16 -> Закладки клейкие BRAUBERG НЕОНОВЫЕ бумажные, 50х14 мм, 5 цветов х 50 листов, европодвес | C18: 69.73 | D18: =B18 -> Закладки клейкие BRAUBERG НЕОНОВЫЕ бумажные, 50х14 мм, 5 цветов х 50 листов, европодвес | E18: 71.62 | F18: =B18 -> Закладки клейкие BRAUBERG НЕОНОВЫЕ бумажные, 50х14 мм, 5 цветов х 50 листов, европодвес | G18: 59.68 | H18: =STDEVA(C18,E18,G18)/I18*100 -> 9.5775559 | I18: =ROUND(AVERAGE(C18,E18,G18),2) -> 67.01
A19: 9 | B19: ='Прил. 2.1'!B17 -> Закладки клейкие BRAUBERG НЕОНОВЫЕ, пластиковые, 45х8 мм, 8 цветов х 20 листов, в пластиковой книжке | C19: 137.95 | D19: =B19 -> Закладки клейкие BRAUBERG НЕОНОВЫЕ, пластиковые, 45х8 мм, 8 цветов х 20 листов, в пластиковой книжке | E19: 141.68 | F19: =B19 -> Закладки клейкие BRAUBERG НЕОНОВЫЕ, пластиковые, 45х8 мм, 8 цветов х 20 листов, в пластиковой книжке | G19: 124.28 | H19: =STDEVA(C19,E19,G19)/I19*100 -> 6.8040585 | I19: =ROUND(AVERAGE(C19,E19,G19),2) -> 134.64
A20: 10 | B20: ='Прил. 2.1'!B18 -> Ножницы ОФИСМАГ "Standard" 190 мм, классической формы, черные | C20: 107.97 | D20: =B20 -> Ножницы ОФИСМАГ "Standard" 190 мм, классической формы, черные | E20: 110.89 | F20: =B20 -> Ножницы ОФИСМАГ "Standard" 190 мм, классической формы, черные | G20: 97.27 | H20: =STDEVA(C20,E20,G20)/I20*100 -> 6.8046909 | I20: =ROUND(AVERAGE(C20,E20,G20),2) -> 105.38
A21: 11 | B21: ='Прил. 2.1'!B19 -> Ластик ЮНЛАНДИЯ (KOH-I-NOOR EXCLUSIVE) 300/60, 31х21х8 мм, белый, 0300060052KD | C21: 9.413 | D21: =B21 -> Ластик ЮНЛАНДИЯ (KOH-I-NOOR EXCLUSIVE) 300/60, 31х21х8 мм, белый, 0300060052KD | E21: 9.67 | F21: =B21 -> Ластик ЮНЛАНДИЯ (KOH-I-NOOR EXCLUSIVE) 300/60, 31х21х8 мм, белый, 0300060052KD | G21: 8.48 | H21: =STDEVA(C21,E21,G21)/I21*100 -> 6.8137535 | I21: =ROUND(AVERAGE(C21,E21,G21),2) -> 9.19
A22: 12 | B22: ='Прил. 2.1'!B20 -> Ручка шариковая масляная автоматическая BRAUBERG "Delta", СИНЯЯ, soft-touch, 0,7 мм, линия 0,5 мм | C22: 45.52125 | D22: =B22 -> Ручка шариковая масляная автоматическая BRAUBERG "Delta", СИНЯЯ, soft-touch, 0,7 мм, линия 0,5 мм | E22: 46.75 | F22: =B22 -> Ручка шариковая масляная автоматическая BRAUBERG "Delta", СИНЯЯ, soft-touch, 0,7 мм, линия 0,5 мм | G22: 30.76 | H22: =STDEVA(C22,E22,G22)/I22*100 -> 21.698015 | I22: =ROUND(AVERAGE(C22,E22,G22),2) -> 41.01
... A37: 27 | B37: ='Прил. 2.1'!B35 -> Карандаш чернографитный BEIFA (Бэйфа), 1 шт., "A Plus", НВ, с резинкой, корпус желтый | C37: 7 | D37: =B37 -> Карандаш чернографитный BEIFA (Бэйфа), 1 шт., "A Plus", НВ, с резинкой, корпус желтый | E37: 9 | F37: =B37 -> Карандаш чернографитный BEIFA (Бэйфа), 1 шт., "A Plus", НВ, с резинкой, корпус желтый | G37: 5.38 | H37: =STDEVA(C37,E37,G37)/I37*100 -> 25.432273 | I37: =ROUND(AVERAGE(C37,E37,G37),2) -> 7.13

Sheet Прил.2.3
H1: Приложение № | J1: 2.3
I2: к обоснованию НМЦК
A4: Определение ценовой информации, полученной из общедоступных источников
A6: № п/п | B6: =IF(A4="Определение ценовой информации, полученной из общедоступных источников","Сведения (информация) об идентичных (однородных) товарах (работах, услугах), полученные из общедоступных источников информации","Сведения (информация) об идентичных (однородных) товарах (работах, услугах), полученные из ЕИС") -> Сведения (информация) об идентичных (однородных) товарах (работах, услугах), полученные из общедоступных источников информации | E6: Применение поправочных коэффициентов (индексов) | H6: Цена за единицу товара (работы, услуги) с учетом применения коэффициента (индекса), руб. | I6: Средняя цена за единицу товара (работы, услуги), руб. | J6: Коэффициент вариации, %
B7: наименование товара (работы, услуги) | C7: =IF(A4="Определение ценовой информации, полученной из общедоступных источников","наименование общедоступного источника информации","реестровый номер контракта в ЕИС") -> наименование общедоступного источника информации | D7: цена за единицу товара (работы, услуги), руб. | E7: условие закупки, которое определяет применение коэффициента (индекса) | F7: значение коэффициента (индекса) | G7: обоснование применения коэффициента (индекса)
A8: 1 | B8: 2 | C8: 3 | D8: 4 | E8: 5 | F8: 6 | G8: 7 | H8: 8 | I8: 9 | J8: 10
A9: 1 | D9: 0 | H9: =D9 -> 0 | I9: =ROUND(AVERAGE(H9:H11),2) -> 0 | J9: =STDEVA(H9:H11)/I9*100 -> #DIV/0!
D10: 0 | H10: =D10 -> 0
D11: 0 | H11: =D11 -> 0

Sheet ИД
A1: Определение ценовой информации, полученной от поставщиков (подрядчиков, исполнителей)
A2: Определение ценовой информации, полученной на основании запроса в ЕИС
A4: Определение ценовой информации, полученной из общедоступных источников
A5: Определение ценовой информации, полученной из реестра контрактов, опубликованных в ЕИС
A7: начальной (максимальной) цены контракта (НМЦК)
A8: начальной цены единицы товара (работы, услуги), начальной суммы цен единиц товара (работы, услуги) (НЦЕ, НСЦЕ)
