Workbook
Name _ftn2_1: 'Приложение №2'!#REF!
Name _GoBack_2: 'Приложение 2.1.'!$J$5
Name Print_Area_1: 'Приложение №2'!$A$1:$M$15
Name Print_Area_2: 'Приложение 2.1.'!$A$1:$J$7
Name Print_Area_3: #REF!
Name Print_Area_4: 'Приложение 2.2.'!$A$1:$M$8

Sheet Приложение №2
A2: Приложение № 2
A3: Обоснование НМЦК
A5: Предмет муниципального контракта (договора) | B5: Поставка периодических печатных изданий
A6: Основные характеристики объекта закупки | B6: Согласно приложения №3
A7: Используемый метод определения НМЦК с обоснованием | B7: Определение НМЦК методом сопоставимых рыночных цен (анализа рынка) в соответствии с п.2 ст.22 Федерального закона №44-ФЗ
A8: НМЦК, руб. | B8: ='Приложение 2.1.'!J11 -> 37146.78
A9: Расчет НМЦК | B9: Согласно приложения №2; 2.1; 2.2; 2.3.
A10: Дата подготовки обоснования НМЦК | B10: 44466

Sheet Приложение 2.1.
I3: Приложение 2.1
A4: Определение НМЦК методом сопоставимых рыночных цен (анализа рынка)
A5: № п/п | B5: Наименование товара (работы, услуги) | C5: Единица изм. | D5: Количество (объем) товара (работы, услуги) | E5: Цена за единицу товара (работы, услуги) из различных источников ценовой информации, руб. | I5: Средняя цена за единицу товара (работы, услуги), руб. | J5: Стоимость товара (работы, услуги), руб.
E6: запрос поставщикам (подрядчикам, исполнителям) | F6: запрос в ЕИС | G6: реестр контрактов | H6: общедоступные источники
A7: 1 | B7: 2 | C7: 3 | D7: 4 | E7: 5 | F7: 6 | G7: 7 | H7: 8 | I7: 10 | J7: 11
A8: 1 | B8: Для кадровиков. Нормативные акты. 6 мес. и 1 мес. Дополнительно. Общий период подписки с 01.01.2022 по 31.07.2022. | C8: шт. | D8: 1 | E8: ='Приложение 2.2.'!M9 -> 9756.45 | I8: =E8 -> 9756.45 | J8: =D8*I8 -> 9756.45
A9: 2 | B9: Справочник кадровика 6 мес. и 1 мес. Дополнительно. Общий период подписки с 01.01.2022 по 31.07.2022. | C9: шт. | D9: 1 | E9: ='Приложение 2.2.'!M10 -> 15754.86 | I9: =E9 -> 15754.86 | J9: =D9*I9 -> 15754.86
A10: 3 | B10: Справочник руководителя образовательного учреждения. 6 мес. и 1 мес. Дополнительно. Общий период подписки с 01.01.2022 по 31.07.2022. | C10: шт. | D10: 1 | E10: ='Приложение 2.2.'!M11 -> 11635.47 | I10: =E10 -> 11635.47 | J10: =D10*I10 -> 11635.47
J11: =SUM(J8:J10) -> 37146.78

Sheet Приложение 2.2.
M2: Приложение 2.2
B3: Определение ценовой информации, полученной от поставщиков (подрядчиков, исполнителей)
A5: № п/п | B5: Информация от поставщиков (подрядчиков, исполнителей) о предлагаемых идентичных (однородных) товарах (работах, услугах) | L5: Коэффициент вариации, % | M5: Средняя цена за единицу товара (работы, услуги), руб.
B6: Вх. 16 от 27.09.2021 | D6: Вх. 18 от 27.09.2021 | F6: Вх. 17 от 27.09.2021 | H6: №4 | J6: №5
B7: наименование товара (работы, услуги) | C7: цена за единицу, руб. | D7: наименование товара (работы, услуги) | E7: цена за единицу, руб. | F7: наименование товара (работы, услуги) | G7: цена за единицу, руб. | H7: наименование товара (работы, услуги) | I7: цена за единицу, руб. | J7: наименование товара (работы, услуги) | K7: цена за единицу, руб.
A8: 1 | B8: 2 | C8: 3 | D8: 4 | E8: 5 | F8: 6 | G8: 7 | H8: 8 | I8: 9 | J8: 10 | K8: 11 | L8: 12 | M8: 13
A9: 1 | B9: ='Приложение 2.1.'!B8 -> Для кадровиков. Нормативные акты. 6 мес. и 1 мес. Дополнительно. Общий период подписки с 01.01.2022 по 31.07.2022. | C9: 8910 | D9: ='Приложение 2.1.'!B8 -> Для кадровиков. Нормативные акты. 6 мес. и 1 мес. Дополнительно. Общий период подписки с 01.01.2022 по 31.07.2022. | E9: 9979.2 | F9: ='Приложение 2.1.'!B8 -> Для кадровиков. Нормативные акты. 6 мес. и 1 мес. Дополнительно. Общий период подписки с 01.01.2022 по 31.07.2022. | G9: 10380.15 | L9: =STDEVA(C9,E9,G9)/AVERAGE(C9,E9,G9)*100 -> 7.7893708 | M9: =ROUND(AVERAGE(C9,E9,G9),2) -> 9756.45
A10: 2 | B10: ='Приложение 2.1.'!B9 -> Справочник кадровика 6 мес. и 1 мес. Дополнительно. Общий период подписки с 01.01.2022 по 31.07.2022. | C10: 14388 | D10: ='Приложение 2.1.'!B9 -> Справочник кадровика 6 мес. и 1 мес. Дополнительно. Общий период подписки с 01.01.2022 по 31.07.2022. | E10: 16114.56 | F10: ='Приложение 2.1.'!B9 -> Справочник кадровика 6 мес. и 1 мес. Дополнительно. Общий период подписки с 01.01.2022 по 31.07.2022. | G10: 16762.02 | L10: =STDEVA(C10,E10,G10)/AVERAGE(C10,E10,G10)*100 -> 7.7893708 | M10: =ROUND(AVERAGE(C10,E10,G10),2) -> 15754.86
A11: 3 | B11: ='Приложение 2.1.'!B10 -> Справочник руководителя образовательного учреждения. 6 мес. и 1 мес. Дополнительно. Общий период подписки с 01.01.2022 по 31.07.2022. | C11: 10626 | D11: ='Приложение 2.1.'!B10 -> Справочник руководителя образовательного учреждения. 6 мес. и 1 мес. Дополнительно. Общий период подписки с 01.01.2022 по 31.07.2022. | E11: 11901.12 | F11: ='Приложение 2.1.'!B10 -> Справочник руководителя образовательного учреждения. 6 мес. и 1 мес. Дополнительно. Общий период подписки с 01.01.2022 по 31.07.2022. | G11: 12379.29 | L11: =STDEVA(C11,E11,G11)/AVERAGE(C11,E11,G11)*100 -> 7.7893708 | M11: =ROUND(AVERAGE(C11,E11,G11),2) -> 11635.47
