Workbook
Name Десятки: '[1]служебный раздел'!$D$2:$D$10
Name Единицы: '[1]служебный раздел'!$B$2:$B$22
Name ЕдиницыТ: '[1]служебный раздел'!$C$2:$C$22
Name Сотни: '[1]служебный раздел'!$E$2:$E$11

Sheet Обоснование НМЦК
A3: ОБОСНОВАНИЕ
A4: начальной (максимальной) цены контракта (НМЦК)
A5: Предмет муниципального контракта (контракта)
A6: Основные характеристики объекта закупки | B6: В соответствии с извещением об осуществлении закупки
A7: Используемый метод определения НМЦК с обоснованием | B7: метод сопоставимых рыночных цен (анализа рынка) в соответствии с ч. 2, ч. 6 ст. 22 Федерального закона от 05.04.2013 № 44-ФЗ "О контрактной системе в сфере закупок товаров, работ, услуг для обеспечения государственных и муниципальных нужд"
A8: НМЦК, руб. | B8: ='Прил. 1'!K30 -> 21
A9: =IF(A4="начальной (максимальной) цены контракта (НМЦК)","Расчет НМЦК","Расчет НЦЕ, НСЦЕ") -> Расчет НМЦК | B9: согласно приложениям № | C9: 1, 2, 3 | D9: =IF(A4="начальной (максимальной) цены контракта (НМЦК)","к обоснованию НМЦК","к обоснованию НЦЕ, НСЦЕ") -> к обоснованию НМЦК
A10: Дата подготовки обоснования НМЦК | B10: 44670

Sheet Прил. 1
J1: Приложение № | K1: 1
J2: к обоснованию НМЦК
A4: =IF('Обоснование НМЦК'!A4="начальной (максимальной) цены контракта (НМЦК)","Определение начальной (максимальной) цены контракта методом сопоставимых рыночных цен (анализа рынка)","Определение начальной цены единицы (начальной суммы цен единиц) товара (работы, услуги) методом сопоставимых рыночных цен (анализа рынка)") -> Определение начальной (максимальной) цены контракта методом сопоставимых рыночных цен (анализа рынка)
A6: N п/п | B6: Наименование товара (работы, услуги) | C6: Единица измерения | D6: =IF('Обоснование НМЦК'!A4="начальной (максимальной) цены контракта (НМЦК)","Количество (объем) товара (работы, услуги)","Количество (объем) товара (работы, услуги) невозможно определить") -> Количество (объем) товара (работы, услуги) | E6: Цена за единицу товара (работы, услуги) из различных источников ценовой информации, руб. | I6: Коэффициент вариации, % | J6: Средняя цена за единицу товара (работы, услуги), руб | K6: Стоимость товара (работы, услуги), руб.
E7: =IF('Прил. 2'!A4="Определение ценовой информации, полученной от поставщиков (подрядчиков, исполнителей)","запрос поставщикам (подрядчикам, исполнителям)","запрос в ЕИС") -> запрос поставщикам (подрядчикам, исполнителям) | F7: =IF(E7="запрос поставщикам (подрядчикам, исполнителям)","запрос в ЕИС","запрос поставщикам (подрядчикам, исполнителям)") -> запрос в ЕИС | G7: =IF(H7="общедоступные источники","реестр контрактов","общедоступные источники") -> реестр контрактов | H7: =IF('Прил. 3'!A4="Определение ценовой информации, полученной из общедоступных источников","общедоступные источники","реестр контрактов") -> общедоступные источники
A8: 1 | B8: 2 | C8: 3 | D8: 4 | E8: 5 | F8: 6 | G8: 7 | H8: 8 | I8: 9 | J8: 10 | K8: 11
A9: 1 | B9: Товар, работа, услуга 1 | C9: шт. | D9: 1 | E9: ='Прил. 2'!I11 -> 1 | H9: ='Прил. 3'!I9 -> 1 | I9: =STDEVA(E9:H9)/J9*100 -> 0 | J9: =ROUND(AVERAGE(E9:H9),2) -> 1 | K9: =ROUND((D9*J9),2) -> 1
A10: 2 | B10: Товар, работа, услуга 2 | C10: шт. | D10: 1 | E10: ='Прил. 2'!I12 -> 1 | H10: ='Прил. 3'!I12 -> 1 | I10: =STDEVA(E10:H10)/J10*100 -> 0 | J10: =ROUND(AVERAGE(E10:H10),2) -> 1 | K10: =ROUND((D10*J10),2) -> 1
A11: 3 | B11: Товар, работа, услуга 3 | C11: шт. | D11: 1 | E11: ='Прил. 2'!I13 -> 1 | H11: ='Прил. 3'!I15 -> 1 | I11: =STDEVA(E11:H11)/J11*100 -> 0 | J11: =ROUND(AVERAGE(E11:H11),2) -> 1 | K11: =ROUND((D11*J11),2) -> 1
A12: 4 | B12: Товар, работа, услуга 4 | C12: шт. | D12: 1 | E12: ='Прил. 2'!I14 -> 1 | H12: ='Прил. 3'!I18 -> 1 | I12: =STDEVA(E12:H12)/J12*100 -> 0 | J12: =ROUND(AVERAGE(E12:H12),2) -> 1 | K12: =ROUND((D12*J12),2) -> 1
A13: 5 | B13: Товар, работа, услуга 5 | C13: шт. | D13: 1 | E13: ='Прил. 2'!I15 -> 1 | H13: ='Прил. 3'!I21 -> 1 | I13: =STDEVA(E13:H13)/J13*100 -> 0 | J13: =ROUND(AVERAGE(E13:H13),2) -> 1 | K13: =ROUND((D13*J13),2) -> 1
A14: 6 | B14: Товар, работа, услуга 6 | C14: шт. | D14: 1 | E14: ='Прил. 2'!I16 -> 1 | H14: ='Прил. 3'!I24 -> 1 | I14: =STDEVA(E14:H14)/J14*100 -> 0 | J14: =ROUND(AVERAGE(E14:H14),2) -> 1 | K14: =ROUND((D14*J14),2) -> 1
A15: 7 | B15: Товар, работа, услуга 7 | C15: шт. | D15: 1 | E15: ='Прил. 2'!I17 -> 1 | H15: ='Прил. 3'!I27 -> 1 | I15: =STDEVA(E15:H15)/J15*100 -> 0 | J15: =ROUND(AVERAGE(E15:H15),2) -> 1 | K15: =ROUND((D15*J15),2) -> 1
A16: 8 | B16: Товар, работа, услуга 8 | C16: шт. | D16: 1 | E16: ='Прил. 2'!I18 -> 1 | H16: ='Прил. 3'!I30 -> 1 | I16: =STDEVA(E16:H16)/J16*100 -> 0 | J16: =ROUND(AVERAGE(E16:H16),2) -> 1 | K16: =ROUND((D16*J16),2) -> 1
A17: 9 | B17: Товар, работа, услуга 9 | C17: шт. | D17: 1 | E17: ='Прил. 2'!I19 -> 1 | H17: ='Прил. 3'!I33 -> 1 | I17: =STDEVA(E17:H17)/J17*100 -> 0 | J17: =ROUND(AVERAGE(E17:H17),2) -> 1 | K17: =ROUND((D17*J17),2) -> 1
A18: 10 | B18: Товар, работа, услуга 10 | C18: шт. | D18: 1 | E18: ='Прил. 2'!I20 -> 1 | H18: ='Прил. 3'!I36 -> 1 | I18: =STDEVA(E18:H18)/J18*100 -> 0 | J18: =ROUND(AVERAGE(E18:H18),2) -> 1 | K18: =ROUND((D18*J18),2) -> 1
A19: 11 | B19: Товар, работа, услуга 11 | C19: шт. | D19: 1 | E19: ='Прил. 2'!I21 -> 1 | H19: ='Прил. 3'!I39 -> 1 | I19: =STDEVA(E19:H19)/J19*100 -> 0 | J19: =ROUND(AVERAGE(E19:H19),2) -> 1 | K19: =ROUND((D19*J19),2) -> 1
A20: 12 | B20: Товар, работа, услуга 12 | C20: шт. | D20: 1 | E20: ='Прил. 2'!I22 -> 1 | H20: ='Прил. 3'!I42 -> 1 | I20: =STDEVA(E20:H20)/J20*100 -> 0 | J20: =ROUND(AVERAGE(E20:H20),2) -> 1 | K20: =ROUND((D20*J20),2) -> 1
A21: 13 | B21: Товар, работа, услуга 13 | C21: шт. | D21: 1 | E21: ='Прил. 2'!I23 -> 1 | H21: ='Прил. 3'!I45 -> 1 | I21: =STDEVA(E21:H21)/J21*100 -> 0 | J21: =ROUND(AVERAGE(E21:H21),2) -> 1 | K21: =ROUND((D21*J21),2) -> 1
A22: 14 | B22: Товар, работа, услуга 14 | C22: шт. | D22: 1 | E22: ='Прил. 2'!I24 -> 1 | H22: ='Прил. 3'!I48 -> 1 | I22: =STDEVA(E22:H22)/J22*100 -> 0 | J22: =ROUND(AVERAGE(E22:H22),2) -> 1 | K22: =ROUND((D22*J22),2) -> 1
A23: 15 | B23: Товар, работа, услуга 15 | C23: шт. | D23: 1 | E23: ='Прил. 2'!I25 -> 1 | H23: ='Прил. 3'!I51 -> 1 | I23: =STDEVA(E23:H23)/J23*100 -> 0 | J23: =ROUND(AVERAGE(E23:H23),2) -> 1 | K23: =ROUND((D23*J23),2) -> 1
A24: 16 | B24: Товар, работа, услуга 16 | C24: шт. | D24: 1 | E24: ='Прил. 2'!I26 -> 1 | H24: ='Прил. 3'!I54 -> 1 | I24: =STDEVA(E24:H24)/J24*100 -> 0 | J24: =ROUND(AVERAGE(E24:H24),2) -> 1 | K24: =ROUND((D24*J24),2) -> 1
A25: 17 | B25: Товар, работа, услуга 17 | C25: шт. | D25: 1 | E25: ='Прил. 2'!I27 -> 1 | H25: ='Прил. 3'!I57 -> 1 | I25: =STDEVA(E25:H25)/J25*100 -> 0 | J25: =ROUND(AVERAGE(E25:H25),2) -> 1 | K25: =ROUND((D25*J25),2) -> 1
A26: 18 | B26: Товар, работа, услуга 18 | C26: шт. | D26: 1 | E26: ='Прил. 2'!I28 -> 1 | H26: ='Прил. 3'!I60 -> 1 | I26: =STDEVA(E26:H26)/J26*100 -> 0 | J26: =ROUND(AVERAGE(E26:H26),2) -> 1 | K26: =ROUND((D26*J26),2) -> 1
A27: 19 | B27: Товар, работа, услуга 19 | C27: шт. | D27: 1 | E27: ='Прил. 2'!I29 -> 1 | H27: ='Прил. 3'!I63 -> 1 | I27: =STDEVA(E27:H27)/J27*100 -> 0 | J27: =ROUND(AVERAGE(E27:H27),2) -> 1 | K27: =ROUND((D27*J27),2) -> 1
A28: 20 | B28: Товар, работа, услуга 20 | C28: шт. | D28: 1 | E28: ='Прил. 2'!I30 -> 1 | H28: ='Прил. 3'!I66 -> 1 | I28: =STDEVA(E28:H28)/J28*100 -> 0 | J28: =ROUND(AVERAGE(E28:H28),2) -> 1 | K28: =ROUND((D28*J28),2) -> 1
A29: 21 | B29: Товар, работа, услуга 21 | C29: шт. | D29: 1 | E29: ='Прил. 2'!I31 -> 1 | H29: ='Прил. 3'!I69 -> 1 | I29: =STDEVA(E29:H29)/J29*100 -> 0 | J29: =ROUND(AVERAGE(E29:H29),2) -> 1 | K29: =ROUND((D29*J29),2) -> 1
I30: Итого, руб. | K30: =SUM(K9:K29) -> 21

Sheet Прил. 2
G1: Приложение № | I1: 2
H2: к обоснованию НМЦК
A4: Определение ценовой информации, полученной от поставщиков (подрядчиков, исполнителей)
A6: № п/п | B6: Информация от поставщиков (подрядчиков, исполнителей) о предлагаемых идентичных (однородных) товарах (работах, услугах) | H6: Коэффициент вариации, % | I6: Средняя цена за единицу товара (работы, услуги), руб.
B7: №1 | D7: №2 | F7: №3
B8: вх. от 00.00.000 №0 | D8: вх. от 00.00.000 №0 | F8: вх. от 00.00.000 №0
B9: наименование товара (работы, услуги) | C9: цена за единицу, руб. | D9: наименование товара (работы, услуги) | E9: цена за единицу, руб. | F9: наименование товара (работы, услуги) | G9: цена за единицу, руб.
A10: 1 | B10: 2 | C10: 3 | D10: 4 | E10: 5 | F10: 6 | G10: 7 | H10: 8 | I10: 9
A11: 1 | B11: ='Прил. 1'!B9 -> Товар, работа, услуга 1 | C11: 1 | D11: =B11 -> Товар, работа, услуга 1 | E11: 1 | F11: =B11 -> Товар, работа, услуга 1 | G11: 1 | H11: =STDEVA(C11,E11,G11)/I11*100 -> 0 | I11: =ROUND(AVERAGE(C11,E11,G11),2) -> 1
A12: 2 | B12: ='Прил. 1'!B10 -> Товар, работа, услуга 2 | C12: 1 | D12: =B12 -> Товар, работа, услуга 2 | E12: 1 | F12: =B12 -> Товар, работа, услуга 2 | G12: 1 | H12: =STDEVA(C12,E12,G12)/I12*100 -> 0 | I12: =ROUND(AVERAGE(C12,E12,G12),2) -> 1
A13: 3 | B13: ='Прил. 1'!B11 -> Товар, работа, услуга 3 | C13: 1 | D13: =B13 -> Товар, работа, услуга 3 | E13: 1 | F13: =B13 -> Товар, работа, услуга 3 | G13: 1 | H13: =STDEVA(C13,E13,G13)/I13*100 -> 0 | I13: =ROUND(AVERAGE(C13,E13,G13),2) -> 1
A14: 4 | B14: ='Прил. 1'!B12 -> Товар, работа, услуга 4 | C14: 1 | D14: =B14 -> Товар, работа, услуга 4 | E14: 1 | F14: =B14 -> Товар, работа, услуга 4 | G14: 1 | H14: =STDEVA(C14,E14,G14)/I14*100 -> 0 | I14: =ROUND(AVERAGE(C14,E14,G14),2) -> 1
A15: 5 | B15: ='Прил. 1'!B13 -> Товар, работа, услуга 5 | C15: 1 | D15: =B15 -> Товар, работа, услуга 5 | E15: 1 | F15: =B15 -> Товар, работа, услуга 5 | G15: 1 | H15: =STDEVA(C15,E15,G15)/I15*100 -> 0 | I15: =ROUND(AVERAGE(C15,E15,G15),2) -> 1
A16: 6 | B16: ='Прил. 1'!B14 -> Товар, работа, услуга 6 | C16: 1 | D16: =B16 -> Товар, работа, услуга 6 | E16: 1 | F16: =B16 -> Товар, работа, услуга 6 | G16: 1 | H16: =STDEVA(C16,E16,G16)/I16*100 -> 0 | I16: =ROUND(AVERAGE(C16,E16,G16),2) -> 1
A17: 7 | B17: ='Прил. 1'!B15 -> Товар, работа, услуга 7 | C17: 1 | D17: =B17 -> Товар, работа, услуга 7 | E17: 1 | F17: =B17 -> Товар, работа, услуга 7 | G17: 1 | H17: =STDEVA(C17,E17,G17)/I17*100 -> 0 | I17: =ROUND(AVERAGE(C17,E17,G17),2) -> 1
A18: 8 | B18: ='Прил. 1'!B16 -> Товар, работа, услуга 8 | C18: 1 | D18: =B18 -> Товар, работа, услуга 8 | E18: 1 | F18: =B18 -> Товар, работа, услуга 8 | G18: 1 | H18: =STDEVA(C18,E18,G18)/I18*100 -> 0 | I18: =ROUND(AVERAGE(C18,E18,G18),2) -> 1
A19: 9 | B19: ='Прил. 1'!B17 -> Товар, работа, услуга 9 | C19: 1 | D19: =B19 -> Товар, работа, услуга 9 | E19: 1 | F19: =B19 -> Товар, работа, услуга 9 | G19: 1 | H19: =STDEVA(C19,E19,G19)/I19*100 -> 0 | I19: =ROUND(AVERAGE(C19,E19,G19),2) -> 1
A20: 10 | B20: ='Прил. 1'!B18 -> Товар, работа, услуга 10 | C20: 1 | D20: =B20 -> Товар, работа, услуга 10 | E20: 1 | F20: =B20 -> Товар, работа, услуга 10 | G20: 1 | H20: =STDEVA(C20,E20,G20)/I20*100 -> 0 | I20: =ROUND(AVERAGE(C20,E20,G20),2) -> 1
A21: 11 | B21: ='Прил. 1'!B19 -> Товар, работа, услуга 11 | C21: 1 | D21: =B21 -> Товар, работа, услуга 11 | E21: 1 | F21: =B21 -> Товар, работа, услуга 11 | G21: 1 | H21: =STDEVA(C21,E21,G21)/I21*100 -> 0 | I21: =ROUND(AVERAGE(C21,E21,G21),2) -> 1
A22: 12 | B22: ='Прил. 1'!B20 -> Товар, работа, услуга 12 | C22: 1 | D22: =B22 -> Товар, работа, услуга 12 | E22: 1 | F22: =B22 -> Товар, работа, услуга 12 | G22: 1 | H22: =STDEVA(C22,E22,G22)/I22*100 -> 0 | I22: =ROUND(AVERAGE(C22,E22,G22),2) -> 1
... A31: 21 | B31: ='Прил. 1'!B29 -> Товар, работа, услуга 21 | C31: 1 | D31: =B31 -> Товар, работа, услуга 21 | E31: 1 | F31: =B31 -> Товар, работа, услуга 21 | G31: 1 | H31: =STDEVA(C31,E31,G31)/I31*100 -> 0 | I31: =ROUND(AVERAGE(C31,E31,G31),2) -> 1

Sheet Прил. 3
H1: Приложение № | J1: 3
I2: к обоснованию НМЦК
A4: Определение ценовой информации, полученной из общедоступных источников
A6: № п/п | B6: =IF(A4="Определение ценовой информации, полученной из общедоступных источников","Сведения (информация) об идентичных (однородных) товарах (работах, услугах), полученные из общедоступных источников информации","Сведения (информация) об идентичных (однородных) товарах (работах, услугах), полученные из ЕИС") -> Сведения (информация) об идентичных (однородных) товарах (работах, услугах), полученные из общедоступных источников информации | E6: Применение поправочных коэффициентов (индексов) | H6: Цена за единицу товара (работы, услуги) с учетом применения коэффициента (индекса), руб. | I6: Средняя цена за единицу товара (работы, услуги), руб. | J6: Коэффициент вариации, %
B7: наименование товара (работы, услуги) | C7: =IF(A4="Определение ценовой информации, полученной из общедоступных источников","наименование общедоступного источника информации","реестровый номер контракта в ЕИС") -> наименование общедоступного источника информации | D7: цена за единицу товара (работы, услуги), руб. | E7: условие закупки, которое определяет применение коэффициента (индекса) | F7: значение коэффициента (индекса) | G7: обоснование применения коэффициента (индекса)
A8: 1 | B8: 2 | C8: 3 | D8: 4 | E8: 5 | F8: 6 | G8: 7 | H8: 8 | I8: 9 | J8: 10
A9: 1 | B9: ='Прил. 1'!B9 -> Товар, работа, услуга 1 | D9: 1 | H9: =D9 -> 1 | I9: =ROUND(AVERAGE(H9:H11),2) -> 1 | J9: =STDEVA(H9:H11)/I9*100 -> 0
D10: 1 | H10: =D10 -> 1
D11: 1 | H11: =D11 -> 1
A12: 2 | B12: ='Прил. 1'!B10 -> Товар, работа, услуга 2 | D12: 1 | H12: =D12 -> 1 | I12: =ROUND(AVERAGE(H12:H14),2) -> 1 | J12: =STDEVA(H12:H14)/I12*100 -> 0
D13: 1 | H13: =D13 -> 1
D14: 1 | H14: =D14 -> 1
A15: 3 | B15: ='Прил. 1'!B11 -> Товар, работа, услуга 3 | D15: 1 | H15: =D15 -> 1 | I15: =ROUND(AVERAGE(H15:H17),2) -> 1 | J15: =STDEVA(H15:H17)/I15*100 -> 0
D16: 1 | H16: =D16 -> 1
D17: 1 | H17: =D17 -> 1
A18: 4 | B18: ='Прил. 1'!B12 -> Товар, работа, услуга 4 | D18: 1 | H18: =D18 -> 1 | I18: =ROUND(AVERAGE(H18:H20),2) -> 1 | J18: =STDEVA(H18:H20)/I18*100 -> 0
D19: 1 | H19: =D19 -> 1
D20: 1 | H20: =D20 -> 1
A21: 5 | B21: ='Прил. 1'!B13 -> Товар, работа, услуга 5 | D21: 1 | H21: =D21 -> 1 | I21: =ROUND(AVERAGE(H21:H23),2) -> 1 | J21: =STDEVA(H21:H23)/I21*100 -> 0
D22: 1 | H22: =D22 -> 1
D23: 1 | H23: =D23 -> 1
A24: 6 | B24: ='Прил. 1'!B14 -> Товар, работа, услуга 6 | D24: 1 | H24: =D24 -> 1 | I24: =ROUND(AVERAGE(H24:H26),2) -> 1 | J24: =STDEVA(H24:H26)/I24*100 -> 0
D25: 1 | H25: =D25 -> 1
D26: 1 | H26: =D26 -> 1
A27: 7 | B27: ='Прил. 1'!B15 -> Товар, работа, услуга 7 | D27: 1 | H27: =D27 -> 1 | I27: =ROUND(AVERAGE(H27:H29),2) -> 1 | J27: =STDEVA(H27:H29)/I27*100 -> 0
D28: 1 | H28: =D28 -> 1
D29: 1 | H29: =D29 -> 1
A30: 8 | B30: ='Прил. 1'!B16 -> Товар, работа, услуга 8 | D30: 1 | H30: =D30 -> 1 | I30: =ROUND(AVERAGE(H30:H32),2) -> 1 | J30: =STDEVA(H30:H32)/I30*100 -> 0
D31: 1 | H31: =D31 -> 1
D32: 1 | H32: =D32 -> 1
A33: 9 | B33: ='Прил. 1'!B17 -> Товар, работа, услуга 9 | D33: 1 | H33: =D33 -> 1 | I33: =ROUND(AVERAGE(H33:H35),2) -> 1 | J33: =STDEVA(H33:H35)/I33*100 -> 0
D34: 1 | H34: =D34 -> 1
D35: 1 | H35: =D35 -> 1
A36: 10 | B36: ='Прил. 1'!B18 -> Товар, работа, услуга 10 | D36: 1 | H36: =D36 -> 1 | I36: =ROUND(AVERAGE(H36:H38),2) -> 1 | J36: =STDEVA(H36:H38)/I36*100 -> 0
D37: 1 | H37: =D37 -> 1
D38: 1 | H38: =D38 -> 1
A39: 11 | B39: ='Прил. 1'!B19 -> Товар, работа, услуга 11 | D39: 1 | H39: =D39 -> 1 | I39: =ROUND(AVERAGE(H39:H41),2) -> 1 | J39: =STDEVA(H39:H41)/I39*100 -> 0
D40: 1 | H40: =D40 -> 1
D41: 1 | H41: =D41 -> 1
A42: 12 | B42: ='Прил. 1'!B20 -> Товар, работа, услуга 12 | D42: 1 | H42: =D42 -> 1 | I42: =ROUND(AVERAGE(H42:H44),2) -> 1 | J42: =STDEVA(H42:H44)/I42*100 -> 0
...

Sheet ИД
A1: Определение ценовой информации, полученной от поставщиков (подрядчиков, исполнителей)
A2: Определение ценовой информации, полученной на основании запроса в ЕИС
A4: Определение ценовой информации, полученной из общедоступных источников
A5: Определение ценовой информации, полученной из реестра контрактов, опубликованных в ЕИС
A7: начальной (максимальной) цены контракта (НМЦК)
A8: начальной цены единицы товара (работы, услуги), начальной суммы цен единиц товара (работы, услуги) (НЦЕ, НСЦЕ)
